BEGIN:VCALENDAR
PRODID:-//eluceo/ical//2.0/EN
VERSION:2.0
CALSCALE:GREGORIAN
BEGIN:VEVENT
UID:085b6aedc2c9f0b46676d961bc3f50d2
DTSTAMP:20260422T090658Z
SUMMARY:Stvořeni pro lásku
DTSTART;TZID=Europe/Prague:20260505T180000
DTEND;TZID=Europe/Prague:20260505T193800
LOCATION:Bio Oko
END:VEVENT
END:VCALENDAR
BEGIN:VCALENDAR
PRODID:-//eluceo/ical//2.0/EN
VERSION:2.0
CALSCALE:GREGORIAN
BEGIN:VEVENT
UID:13eb2faa1b8d9fb6712dcf3050435076
DTSTAMP:20260422T090658Z
SUMMARY:Stvořeni pro lásku
DTSTART;TZID=Europe/Prague:20260505T180000
DTEND;TZID=Europe/Prague:20260505T193800
LOCATION:Bio Oko
END:VEVENT
END:VCALENDAR
