BEGIN:VCALENDAR
PRODID:-//eluceo/ical//2.0/EN
VERSION:2.0
CALSCALE:GREGORIAN
BEGIN:VEVENT
UID:b29e71c7cf21afa4d61e6597266b8071
DTSTAMP:20260423T195931Z
SUMMARY:Ďábel nosí Pradu 2
DTSTART;TZID=Europe/Prague:20260503T203000
DTEND;TZID=Europe/Prague:20260503T223000
LOCATION:Kino Lucerna
END:VEVENT
END:VCALENDAR
BEGIN:VCALENDAR
PRODID:-//eluceo/ical//2.0/EN
VERSION:2.0
CALSCALE:GREGORIAN
BEGIN:VEVENT
UID:4516b8bc60341ee9babae9f4c8b47698
DTSTAMP:20260423T195931Z
SUMMARY:Ďábel nosí Pradu 2
DTSTART;TZID=Europe/Prague:20260503T203000
DTEND;TZID=Europe/Prague:20260503T223000
LOCATION:Kino Lucerna
END:VEVENT
END:VCALENDAR
