BEGIN:VCALENDAR
PRODID:-//eluceo/ical//2.0/EN
VERSION:2.0
CALSCALE:GREGORIAN
BEGIN:VEVENT
UID:0cc3dbb6a2cddfbff8f06917aef5beb2
DTSTAMP:20260423T200227Z
SUMMARY:Ďábel nosí Pradu 2
DTSTART;TZID=Europe/Prague:20260502T203000
DTEND;TZID=Europe/Prague:20260502T223000
LOCATION:Kino Přítomnost
END:VEVENT
END:VCALENDAR
BEGIN:VCALENDAR
PRODID:-//eluceo/ical//2.0/EN
VERSION:2.0
CALSCALE:GREGORIAN
BEGIN:VEVENT
UID:10f9e561ef8fc82207bccbd823194228
DTSTAMP:20260423T200227Z
SUMMARY:Ďábel nosí Pradu 2
DTSTART;TZID=Europe/Prague:20260502T203000
DTEND;TZID=Europe/Prague:20260502T223000
LOCATION:Kino Přítomnost
END:VEVENT
END:VCALENDAR
