BEGIN:VCALENDAR
PRODID:-//eluceo/ical//2.0/EN
VERSION:2.0
CALSCALE:GREGORIAN
BEGIN:VEVENT
UID:e425ea2fb4ba0dbdbb76c6325a01592c
DTSTAMP:20260424T191936Z
SUMMARY:Legendy Alysie
DTSTART;TZID=Europe/Prague:20260503T133000
DTEND;TZID=Europe/Prague:20260503T150300
LOCATION:Bio Central
END:VEVENT
END:VCALENDAR
BEGIN:VCALENDAR
PRODID:-//eluceo/ical//2.0/EN
VERSION:2.0
CALSCALE:GREGORIAN
BEGIN:VEVENT
UID:9a6b4c07fe5d8e3f1ae1beceea4df3ea
DTSTAMP:20260424T191936Z
SUMMARY:Legendy Alysie
DTSTART;TZID=Europe/Prague:20260503T133000
DTEND;TZID=Europe/Prague:20260503T150300
LOCATION:Bio Central
END:VEVENT
END:VCALENDAR
