BEGIN:VCALENDAR
PRODID:-//eluceo/ical//2.0/EN
VERSION:2.0
CALSCALE:GREGORIAN
BEGIN:VEVENT
UID:b63840d1a6d249c41b20581849f0d27a
DTSTAMP:20260423T200228Z
SUMMARY:Ďábel nosí Pradu 2
DTSTART;TZID=Europe/Prague:20260501T203000
DTEND;TZID=Europe/Prague:20260501T223000
LOCATION:Bio Central
END:VEVENT
END:VCALENDAR
BEGIN:VCALENDAR
PRODID:-//eluceo/ical//2.0/EN
VERSION:2.0
CALSCALE:GREGORIAN
BEGIN:VEVENT
UID:dd37bfd17581cadea78b25b8459aa77e
DTSTAMP:20260423T200228Z
SUMMARY:Ďábel nosí Pradu 2
DTSTART;TZID=Europe/Prague:20260501T203000
DTEND;TZID=Europe/Prague:20260501T223000
LOCATION:Bio Central
END:VEVENT
END:VCALENDAR
