BEGIN:VCALENDAR
PRODID:-//eluceo/ical//2.0/EN
VERSION:2.0
CALSCALE:GREGORIAN
BEGIN:VEVENT
UID:ee244899eea9d9c4885c006163de4e18
DTSTAMP:20260423T200407Z
SUMMARY:Ďábel nosí Pradu 2
DTSTART;TZID=Europe/Prague:20260505T173000
DTEND;TZID=Europe/Prague:20260505T193000
LOCATION:Bio Central
END:VEVENT
END:VCALENDAR
BEGIN:VCALENDAR
PRODID:-//eluceo/ical//2.0/EN
VERSION:2.0
CALSCALE:GREGORIAN
BEGIN:VEVENT
UID:9784f284128bd76fcfd98bae540b3e20
DTSTAMP:20260423T200407Z
SUMMARY:Ďábel nosí Pradu 2
DTSTART;TZID=Europe/Prague:20260505T173000
DTEND;TZID=Europe/Prague:20260505T193000
LOCATION:Bio Central
END:VEVENT
END:VCALENDAR
