BEGIN:VCALENDAR
PRODID:-//eluceo/ical//2.0/EN
VERSION:2.0
CALSCALE:GREGORIAN
BEGIN:VEVENT
UID:6fc424229659693256245bfd52ae6f3d
DTSTAMP:20260424T191202Z
SUMMARY:Legendy Alysie
DTSTART;TZID=Europe/Prague:20260502T130000
DTEND;TZID=Europe/Prague:20260502T143300
LOCATION:Bio Central
END:VEVENT
END:VCALENDAR
BEGIN:VCALENDAR
PRODID:-//eluceo/ical//2.0/EN
VERSION:2.0
CALSCALE:GREGORIAN
BEGIN:VEVENT
UID:44cf97950f42c9ee8a784bfb51b45981
DTSTAMP:20260424T191202Z
SUMMARY:Legendy Alysie
DTSTART;TZID=Europe/Prague:20260502T130000
DTEND;TZID=Europe/Prague:20260502T143300
LOCATION:Bio Central
END:VEVENT
END:VCALENDAR
