BEGIN:VCALENDAR
PRODID:-//eluceo/ical//2.0/EN
VERSION:2.0
CALSCALE:GREGORIAN
BEGIN:VEVENT
UID:7369f14266294010462e05bb8180716d
DTSTAMP:20260423T200643Z
SUMMARY:Ďábel nosí Pradu 2
DTSTART;TZID=Europe/Prague:20260503T121500
DTEND;TZID=Europe/Prague:20260503T141500
LOCATION:Bio Oko
END:VEVENT
END:VCALENDAR
BEGIN:VCALENDAR
PRODID:-//eluceo/ical//2.0/EN
VERSION:2.0
CALSCALE:GREGORIAN
BEGIN:VEVENT
UID:2ee3ec75ecdcdc99a07ba33f3dd814f7
DTSTAMP:20260423T200643Z
SUMMARY:Ďábel nosí Pradu 2
DTSTART;TZID=Europe/Prague:20260503T121500
DTEND;TZID=Europe/Prague:20260503T141500
LOCATION:Bio Oko
END:VEVENT
END:VCALENDAR
