BEGIN:VCALENDAR
PRODID:-//eluceo/ical//2.0/EN
VERSION:2.0
CALSCALE:GREGORIAN
BEGIN:VEVENT
UID:e7dfb9881ca2b389b1f3237b06247d50
DTSTAMP:20260423T200120Z
SUMMARY:Ďábel nosí Pradu 2
DTSTART;TZID=Europe/Prague:20260503T123000
DTEND;TZID=Europe/Prague:20260503T143000
LOCATION:Kino Světozor
END:VEVENT
END:VCALENDAR
BEGIN:VCALENDAR
PRODID:-//eluceo/ical//2.0/EN
VERSION:2.0
CALSCALE:GREGORIAN
BEGIN:VEVENT
UID:5e4a644d9bd712d2803f295d13edaca3
DTSTAMP:20260423T200120Z
SUMMARY:Ďábel nosí Pradu 2
DTSTART;TZID=Europe/Prague:20260503T123000
DTEND;TZID=Europe/Prague:20260503T143000
LOCATION:Kino Světozor
END:VEVENT
END:VCALENDAR
