BEGIN:VCALENDAR
PRODID:-//eluceo/ical//2.0/EN
VERSION:2.0
CALSCALE:GREGORIAN
BEGIN:VEVENT
UID:79234d18dfade1d89fd8da203728bdae
DTSTAMP:20260424T214050Z
SUMMARY:Malá Amélie
DTSTART;TZID=Europe/Prague:20260513T203000
DTEND;TZID=Europe/Prague:20260513T214700
LOCATION:Kino Aero
END:VEVENT
END:VCALENDAR
BEGIN:VCALENDAR
PRODID:-//eluceo/ical//2.0/EN
VERSION:2.0
CALSCALE:GREGORIAN
BEGIN:VEVENT
UID:8719e9c6ca35fae07ab7d16e8ace011f
DTSTAMP:20260424T214050Z
SUMMARY:Malá Amélie
DTSTART;TZID=Europe/Prague:20260513T203000
DTEND;TZID=Europe/Prague:20260513T214700
LOCATION:Kino Aero
END:VEVENT
END:VCALENDAR
